BEGIN:VCALENDAR
PRODID:-//Det Danske Spejderkorps//NONSGML Gruppeweb//EN
VERSION:2.0
CALSCALE:GREGORIAN
X-PUBLISHED-TTL:PT1H
X-WR-CALNAME:Junior
METHOD:PUBLISH
BEGIN:VEVENT
UID:gruppeweb.dk:7606:event:615
DTSTAMP:20260421T131042Z
LAST-MODIFIED:20250620T071345Z
SUMMARY:Skt. Hans 2025
DESCRIPTION:*Nu nærmer sommeren sig\, og vi skal igen afholde Skt. Hans-fe
 st i  \nKærsmindeparken.*\n\nVi får derfor brug for en del forældrehjæ
 lpere på dagen\, *mandag den 23.  \njuni*:\n\n * *30 forældre* til at be
 mande madboderne og baren Skt. Hans-aften kl.\n   *16:30–20:30*\n   \n *
  *2 forældre*\, som kan stille en *trailer* ned på pladsen til\n   affal
 dssække *den 23. juni* og køre den + affaldet væk dagen efter\n   (ente
 n jeres egen eller en lukket fra freetrailer.dk [1] – vi betaler\n   lej
 en)\n   \n * *Så mange salgskager som muligt*\n   \n * Eventuelt nogle\, 
 der *kan og vil spille lidt musik* ved bålet\n   \n * *Tilbehør til afte
 nsmad* til ca. 15 personer\, *leveret i løbet af ugen\n   op til* på pla
 dsen i Kærsmindeparken\n   \n\n*Udlæg kan refunderes* ved at sende foto 
 af kvittering samt reg.nr. og  \nkontonr. til:\n📧 /kasserer@nielsebbese
 nsgruppe.dk/\n\n----------------------------------------------------------
 --------------------\n.... Familiehygge torsdag den 19. juni\n\nTorsdag de
 n 19. juni holder vi traditionen tro en hyggelig og uformel  \nforældre- 
 og spejderaften (også i Kærsmindeparken). Her kan I sammen med  \nhele f
 amilien grille jeres medbragte mad og måske nyde en fadøl eller to\,  \n
 mens I snakker med de andre forældre\, lederne og bestyrelsen.\n\nVi give
 r også en kort instruktion til forældrehjælpere til Skt. Hans denne  \n
 aften.\n\n----------------------------------------------------------------
 --------------\n*Vigtig info*\n\nAktivitetDatoTidspunktStedFamiliehyggeaft
 enTorsdag den 19. juni17:00–19:30  \n(grillen klar 17:30)Kærsmindeparke
 n\, Gørrilds Allé 27\, 8920 Randers NVSkt.  \nHans-aftenMandag den 23. j
 uni16:30–20:30Kærsmindeparken\, Gørrilds Allé  \n27\, 8920 Randers NV
 \n------------------------------------------------------------------------
 ------\n*Husk at medbringe til familieaften*:\n\n * Grillvenlig mad og bes
 tik til hele familien\n   \n * Praktisk tøj efter vejret\n   \n * Evt. no
 get at sidde på\n   \n * MobilePay til køb af drikkevarer\n   \n\n\n*OBS
 *: Kun spejdere\, hvis mindst én voksen deltager.\n\n\n[1] https://www.fr
 eetrailer.dk\n
URL:https://www.nielsebbesensgruppe.dk/begivenhed/skt-hans-2025
DTSTART:20250614T150000Z
DTEND:20250623T200000Z
LOCATION:Kærsmindeparken\, Gørrilds Alle 27\, 8920 Randers NV
END:VEVENT
BEGIN:VEVENT
UID:gruppeweb.dk:7606:event:619
DTSTAMP:20260421T131042Z
LAST-MODIFIED:20250916T125517Z
SUMMARY:Mini Hike "2025
DESCRIPTION:Mini Hike 2025 – Invitation\nTema: Middelalderen 🏰\n\nKær
 e spejdere\n\nDet er igen tid til årets traditionsrige Mini Hike – nu f
 or 52. gang!\n\nEn sjov og udfordrende dag i Fussingø Skovene\, fyldt med
  poster\, samarbejde  \nog eventyr.\n\nDet er for alle – uanset hvor læ
 nge du har været spejder.\n\nVi glæder os til at se dig!\n\n📅 Dato & 
 tid\nLørdag d. 20. september 2025 kl. 09.00 – 16.00\n\n📍 Start & slu
 t\nVasevej 9\, 8920 Randers NV – Fussingø Slot\, P-plads\n\n💰 Pris\n
 75 kr. pr. deltager Tilmelding findes på vores hjemmesiden\,\n\n\nAfslutn
 ing: Der vil være præmieoverrækkelse omkring kl. 16.00\, hvor  \nforæl
 dre er meget velkomne.\nHusk at medbringe: En lille rygsæk\, madpakke til
  frokost\, snacks til efter  \nløbet\, vandflaske\, gode sko du kan gå i
 \, tøj efter vejret\, papir og  \nblyant\, dolk (hvis du har sådan en)\n
 \n
URL:https://www.nielsebbesensgruppe.dk/begivenhed/mini-hike-2025
DTSTART:20250920T070000Z
DTEND:20250920T140000Z
LOCATION:FusingØ\, Vasevej 9\, Fussingø\,. 8920 Randers NV
END:VEVENT
BEGIN:VEVENT
UID:gruppeweb.dk:7606:event:622
DTSTAMP:20260421T131042Z
LAST-MODIFIED:20260214T212639Z
SUMMARY:Vandredag 2025
DESCRIPTION:**\n*V**andr**edag 2025*\n\n Vi inviterer jer og jeres familie
  til en spændende vandredag! Kom og vær  \nmed til en dag fyldt med fris
 k luft\, motion og fællesskab \n\nStart og mål: Ved Gården\n\nDato: 26
 . oktober 2025\n\nStarttider og distancer:\n\n20 km – kl. 08.00\n\n15 km
  – kl. 09.00\n\n10 km – kl. 10.00\n\n5 km – kl. 11.00\n\nMålgrupper
  og mærkekrav:\n\nFamiliespejder\, Mikro og Mini:\n\n5 km: Åben for alle
 \n\n10 km: Kræver tidligere 5 km-mærke\n\nJunior\, Trop\, Klan og Senior
 :\n\n10 km\, 15 km og 20 km: Åben for alle\n\nFælles afslutning:\n\nVi f
 orventer\, at alle er i mål omkring kl. 14.00\, hvor vi samles og fejrer 
  \ndagens præstationer\n\nPraktisk information:\n\nMedbring vand\, madpak
 ke og gode vandresko.\n\nPris: 25 kr. pr. deltager\n\n(inkluderer juice\, 
 müslibar og vandremærke – også til søskende)\n\nTilmelding senest 17
 . oktober 2025 via.\n\nwww.nielsebbesensgruppe.dk\n\n\n\n\n
URL:https://www.nielsebbesensgruppe.dk/begivenhed/vandredag-2025
DTSTART:20251026T070000Z
DTEND:20251026T130000Z
LOCATION:Niels Ebbesen Gruppe\, Fiskergårdsvej 31\, 8920 Randers NV
END:VEVENT
BEGIN:VEVENT
UID:gruppeweb.dk:7606:event:657
DTSTAMP:20260421T131042Z
LAST-MODIFIED:20251111T120945Z
SUMMARY:Juleferie
DESCRIPTION:\n
URL:https://www.nielsebbesensgruppe.dk/begivenhed/juleferie
DTSTART;VALUE=DATE:20251222
DTEND;VALUE=DATE:20260105
LOCATION:Niels Ebbesen Gruppe\, Fiskergårdsvej 31\, 8920 Randers NV
END:VEVENT
BEGIN:VEVENT
UID:gruppeweb.dk:7606:event:658
DTSTAMP:20260421T131042Z
LAST-MODIFIED:20251111T124623Z
SUMMARY:Juletræssalg
DESCRIPTION:🎄 Juletræssalg 🎄 [1]\n\n\n[1] https://www.nielsebbesensg
 ruppe.dk/juletraessalg\n
URL:https://www.nielsebbesensgruppe.dk/begivenhed/juletraessalg
DTSTART;VALUE=DATE:20251212
DTEND;VALUE=DATE:20251224
LOCATION:Niels Ebbesen Gruppe\, Fiskergårdsvej 31\, 8920 Randers NV
END:VEVENT
BEGIN:VEVENT
UID:gruppeweb.dk:7606:event:659
DTSTAMP:20260421T131042Z
LAST-MODIFIED:20251111T124616Z
SUMMARY:Juletræssalg
DESCRIPTION:🎄 Juletræssalg 🎄 [1]\n\n\n[1] https://www.nielsebbesensg
 ruppe.dk/juletraessalg\n
URL:https://www.nielsebbesensgruppe.dk/begivenhed/juletraessalg-0
DTSTART;VALUE=DATE:20251206
DTEND;VALUE=DATE:20251208
LOCATION:Niels Ebbesen Gruppe\, Fiskergårdsvej 31\, 8920 Randers NV
END:VEVENT
BEGIN:VEVENT
UID:gruppeweb.dk:7606:event:752
DTSTAMP:20260421T131042Z
LAST-MODIFIED:20260110T134313Z
SUMMARY:Vinter ferie
DESCRIPTION:\n
URL:https://www.nielsebbesensgruppe.dk/begivenhed/vinter-ferie
DTSTART;VALUE=DATE:20260209
DTEND;VALUE=DATE:20260216
LOCATION:Niels Ebbesen Gruppe\, Fiskergårdsvej 31\, 8920 Randers NV
END:VEVENT
BEGIN:VEVENT
UID:gruppeweb.dk:7606:event:759
DTSTAMP:20260421T131042Z
LAST-MODIFIED:20260110T140424Z
SUMMARY:Sommerferie
DESCRIPTION:\n
URL:https://www.nielsebbesensgruppe.dk/begivenhed/sommerferie
DTSTART;VALUE=DATE:20260624
DTEND;VALUE=DATE:20260810
LOCATION:Niels Ebbesen Gruppe\, Fiskergårdsvej 31\, 8920 Randers NV
END:VEVENT
BEGIN:VEVENT
UID:gruppeweb.dk:7606:event:760
DTSTAMP:20260421T131042Z
LAST-MODIFIED:20260110T140424Z
SUMMARY:Påske
DESCRIPTION:\n
URL:https://www.nielsebbesensgruppe.dk/begivenhed/paaske
DTSTART;VALUE=DATE:20260330
DTEND;VALUE=DATE:20260404
LOCATION:Niels Ebbesen Gruppe\, Fiskergårdsvej 31\, 8920 Randers NV
END:VEVENT
BEGIN:VEVENT
UID:gruppeweb.dk:7606:event:761
DTSTAMP:20260421T131042Z
LAST-MODIFIED:20260110T140425Z
SUMMARY:Spejdernes lejr 2026
DESCRIPTION:\n
URL:https://www.nielsebbesensgruppe.dk/begivenhed/spejdernes-lejr-2026
DTSTART;VALUE=DATE:20260718
DTEND;VALUE=DATE:20260727
LOCATION:Hedeland Naturpark\, Tranemosevej 2\, 2640 Hedehusene 
END:VEVENT
BEGIN:VEVENT
UID:gruppeweb.dk:7606:event:774
DTSTAMP:20260421T131042Z
LAST-MODIFIED:20260110T140427Z
SUMMARY:Sankt Hans aften
DESCRIPTION:\n
URL:https://www.nielsebbesensgruppe.dk/begivenhed/sankt-hans-aften
DTSTART;VALUE=DATE:20260623
LOCATION:Kærsmindeparken\, Gørrilds Alle 27\, 8920 Randers NV
END:VEVENT
BEGIN:VEVENT
UID:gruppeweb.dk:7606:event:777
DTSTAMP:20260421T131042Z
LAST-MODIFIED:20260218T180225Z
SUMMARY:Grupperådsmøde 2026
DESCRIPTION:\n
URL:https://www.nielsebbesensgruppe.dk/begivenhed/grupperaadsmoede-2026
DTSTART:20260224T170000Z
DTEND:20260224T183000Z
LOCATION:Naturcenteret\, Gudenåvej 20\, 8920 Randers NV
END:VEVENT
BEGIN:VEVENT
UID:gruppeweb.dk:7606:event:778
DTSTAMP:20260421T131042Z
LAST-MODIFIED:20260214T212512Z
SUMMARY:Raftedag
DESCRIPTION:Vi er ved at mangle nogle nye rafter til spejderarbejdet\, og d
 erfor vil vi  \ngerne invitere jer til at hjælpe os med en fælles arbejd
 sdag.\n\n\nVi har mulighed for at hente nye rafter hos Jakobs bedsteforæl
 dre på  \nNebstrupvej 37\, 8970 Havndal\, og håber\, at så mange som mu
 ligt har lyst til  \nat give en hånd med.\n\n\nVi mødes på gården den 
 7. februar kl. 09:30 og kører samlet derud.\n\n\nSå hvis der alligevel b
 are står “sofadag” i kalenderen\, vil vi sætte  \nkæmpe pris på et
  par ekstra hænder\n\nTilmeld jer gerne\, så vi har en idé om hvor mang
 e der kommer — al hjælp  \ner værdsat. På forhånd tusind tak!\n\n\nM
 vh Lederne\n\n
URL:https://www.nielsebbesensgruppe.dk/begivenhed/raftedag-0
DTSTART:20260207T083000Z
DTEND:20260207T120000Z
LOCATION:Niels Ebbesen Gruppe\, Fiskergårdsvej 31\, 8920 Randers NV
END:VEVENT
BEGIN:VEVENT
UID:gruppeweb.dk:7606:event:779
DTSTAMP:20260421T131042Z
LAST-MODIFIED:20260314T071514Z
SUMMARY:Raftedag
DESCRIPTION:Vi er ved at mangle nogle nye rafter til spejderarbejdet\, og d
 erfor vil vi  \ngerne invitere jer til at hjælpe os med en fælles arbejd
 sdag.\n\n\nVi har mulighed for at hente nye rafter hos Jakobs bedsteforæl
 dre på  \nNebstrupvej 37\, 8970 Havndal\, og håber\, at så mange som mu
 ligt har lyst til  \nat give en hånd med.\n\n\nVi mødes på gården den 
 11. april kl. 09:30 og kører samlet derud.\n\n\nSå hvis der alligevel ba
 re står “sofadag” i kalenderen\, vil vi sætte  \nkæmpe pris på et 
 par ekstra hænder\n\nTilmeld jer gerne\, så vi har en idé om hvor mange
  der kommer — al hjælp  \ner værdsat. På forhånd tusind tak!\n\n\nMv
 h Lederne\n\n\nPS: Hvis man har mulighed for at tage egen motorsav med\, s
 kal man være mere  \nend velkommen :)\n\n
URL:https://www.nielsebbesensgruppe.dk/begivenhed/raftedag-1
DTSTART:20260411T073000Z
DTEND:20260411T110000Z
LOCATION:Niels Ebbesen Gruppe\, Fiskergårdsvej 31\, 8920 Randers NV
END:VEVENT
BEGIN:VEVENT
UID:gruppeweb.dk:7606:event:780
DTSTAMP:20260421T131042Z
LAST-MODIFIED:20260314T071517Z
SUMMARY:Raftedag
DESCRIPTION:Vi er ved at mangle nogle nye rafter til spejderarbejdet\, og d
 erfor vil vi  \ngerne invitere jer til at hjælpe os med en fælles arbejd
 sdag.\n\n\nVi har mulighed for at hente nye rafter hos Jakobs bedsteforæl
 dre på  \nNebstrupvej 37\, 8970 Havndal\, og håber\, at så mange som mu
 ligt har lyst til  \nat give en hånd med.\n\n\nVi mødes på gården den 
 11. april kl. 09:30 og kører samlet derud.\n\n\nSå hvis der alligevel ba
 re står “sofadag” i kalenderen\, vil vi sætte  \nkæmpe pris på et 
 par ekstra hænder\n\nTilmeld jer gerne\, så vi har en idé om hvor mange
  der kommer — al hjælp  \ner værdsat. På forhånd tusind tak!\n\n\nMv
 h Lederne\n\n\nPS: Hvis man har mulighed for at tage egen motorsav med\, s
 kal man være mere  \nend velkommen :)\n\n
URL:https://www.nielsebbesensgruppe.dk/begivenhed/raftedag-2
DTSTART:20260411T073000Z
DTEND:20260411T110000Z
LOCATION:Niels Ebbesen Gruppe\, Fiskergårdsvej 31\, 8920 Randers NV
END:VEVENT
BEGIN:VEVENT
UID:gruppeweb.dk:7606:event:610
DTSTAMP:20260421T131042Z
LAST-MODIFIED:20250421T200532Z
SUMMARY:Divisionsturnering Mikro\, Mini & Junior
DESCRIPTION:*Divisionsturneringen*\nKom og vær med til en fantastisk dag f
 yldt med sjove aktiviteter og  \nspændende oplevelser sammen med de andre
  blå (DDS) grupper i byen!\n\nGennem dagen vil der være masser af udford
 ringer\, samarbejde og gode grin  \n– og der er selvfølgelig præmier t
 il de bedste. Og det bedste af det  \nhele? Det er helt gratis!\n\n.... *V
 igtige tidspunkter*\n\n * *Junior*: Start den 16. maj 2025 kl. 18:00\, afs
 lutning den 17. maj 2025\n   kl. 17:30.\n * *Mikro & Mini*: Den 17. maj 20
 25 fra kl. 08:45 til 17:30.\n\nVi håber at se så mange af jer som muligt
  – det bliver en dag\, I ikke vil  \ngå glip af!\n\n*Har du spørgsmål
 ?*\nDu er altid velkommen til at kontakte os:\n📞 91 15 81 12\n📧\nBen
 jamin2007hoff@gmail.com\n\nSpejderhilsner\,\nLederne\n\n
URL:https://www.nielsebbesensgruppe.dk/begivenhed/divisionsturnering-mikro-
 mini-junior
DTSTART:20250516T160000Z
DTEND:20250517T153000Z
LOCATION:2. Randers\, Holbækgårdsvej 6\, 8930 Randers NØ
END:VEVENT
BEGIN:VEVENT
UID:gruppeweb.dk:7606:event:613
DTSTAMP:20260421T131042Z
LAST-MODIFIED:20250507T193347Z
SUMMARY:Juniorlejr 2025
DESCRIPTION:\nSolen skinner\, bladene er grønne og det er næsten blevet v
 armt. Det kán\nkun betyde en ting... Sommerlejr!\n\nVi har sørget for at
  der ingen regn kommer i år\, så lejren bliver ren  \nsvir\,’ og for a
 t gøre det endnu bedre\, skal vi afsted sammen med troppen\,\nså der bli
 ver givet ekstra gas med hyggen i år.\n\nI år går turen til Trevæld sp
 ejdercenter\, der ligger ved Stubber sø\nmidt mellem Viborg og Holsterbro
 . De har et væld af spændende aktiviteter\,\nbåde\nde traditionelle spe
 jderaktiviteter vi kender og elsker\, men også mere\nspecielle tilbud som
  Escape Rooms og klatring i Boulder Room\n\n \n\n*Det praktiske til\nfor
 ældrene: *\n\nHvornår: *14. juli *kl. 08.00 på Fiskergården *– 18. 
 \njuli.* kl. 15.00 på Fiskergården\n\n \n\nTransport: Trevæld Spejderc
 enter ligger syd for Skive og\nvest for Viborg og øst for Holstebro og no
 rd for hovedparten af Europa\,\nTrevældvej 7\, 7830 Vinderup.\nDa der er 
 et stykke vej\, håber vi meget at der er nogle af jer\, der vil  \nafsæt
 te en times tid til at køre spejderne til eller fra Trevældcenteret.\nS
 åfremt du ønsker at hjælpe med transport\, så vælg dette på  \ntilme
 ldingen.\n\n \n\nPris: Hele\nsommerlejren koster 700 kr. Prisen går til 
 Trevæld Spejdercenter\,  \nforplejning\,\nis og sodavand.\n\n \n\nPakkel
 iste:\n\n    Alt\nskal pakkes i *én* taske.\n\n●       Tøj ef
 ter vejr (herunder regntøj)\, spejdertøj\nog tørklæde\n\n●     
   spisegrej og viskestykke\n\n●       badetøj\n\n●      
  Tandbørste\n\n●       Solcreme\n\n●       Sovepose og li
 ggeunderlag\n\n●       kontanter til lejrkiosken\n\n●     
   lommelygte/pandelampe\n\n●       Dolk\n\n \n\nLommepenge:\nDer
  er kiosk på lejren\, så man kan købe lidt snolder og andet godt\, men 
  \nlige\nhvor priserne ligger\, skal vi ikke kunne sige.\nI vurderer selv 
 hvor mange penge\ndet er rimeligt at bruge på snolder på 4½ dage\n\n\n\
 n
URL:https://www.nielsebbesensgruppe.dk/begivenhed/juniorlejr-2025
DTSTART:20250714T060000Z
DTEND:20250718T130000Z
LOCATION:Trevæld Spejdercenter\, Trevældvej 7\, 7830 Vinderup
END:VEVENT
BEGIN:VEVENT
UID:gruppeweb.dk:7606:event:674
DTSTAMP:20260421T131042Z
LAST-MODIFIED:20251111T124617Z
SUMMARY:Junior møde
DESCRIPTION:\n
URL:https://www.nielsebbesensgruppe.dk/begivenhed/junior-moede
DTSTART:20260107T000000Z
DTEND:20260107T193000Z
LOCATION:Niels Ebbesen Gruppe\, Fiskergårdsvej 31\, 8920 Randers NV
END:VEVENT
BEGIN:VEVENT
UID:gruppeweb.dk:7606:event:675
DTSTAMP:20260421T131042Z
LAST-MODIFIED:20251111T124617Z
SUMMARY:Junior møde
DESCRIPTION:\n
URL:https://www.nielsebbesensgruppe.dk/begivenhed/junior-moede-0
DTSTART:20251217T000000Z
DTEND:20251217T193000Z
LOCATION:Niels Ebbesen Gruppe\, Fiskergårdsvej 31\, 8920 Randers NV
END:VEVENT
BEGIN:VEVENT
UID:gruppeweb.dk:7606:event:676
DTSTAMP:20260421T131042Z
LAST-MODIFIED:20251111T124617Z
SUMMARY:Junior møde
DESCRIPTION:\n
URL:https://www.nielsebbesensgruppe.dk/begivenhed/junior-moede-1
DTSTART:20251210T000000Z
DTEND:20251210T193000Z
LOCATION:Niels Ebbesen Gruppe\, Fiskergårdsvej 31\, 8920 Randers NV
END:VEVENT
BEGIN:VEVENT
UID:gruppeweb.dk:7606:event:677
DTSTAMP:20260421T131042Z
LAST-MODIFIED:20251111T124617Z
SUMMARY:Junior møde
DESCRIPTION:\n
URL:https://www.nielsebbesensgruppe.dk/begivenhed/junior-moede-2
DTSTART:20251203T000000Z
DTEND:20251203T193000Z
LOCATION:Niels Ebbesen Gruppe\, Fiskergårdsvej 31\, 8920 Randers NV
END:VEVENT
BEGIN:VEVENT
UID:gruppeweb.dk:7606:event:678
DTSTAMP:20260421T131042Z
LAST-MODIFIED:20251111T124617Z
SUMMARY:Junior møde
DESCRIPTION:\n
URL:https://www.nielsebbesensgruppe.dk/begivenhed/junior-moede-3
DTSTART:20251126T000000Z
DTEND:20251126T193000Z
LOCATION:Niels Ebbesen Gruppe\, Fiskergårdsvej 31\, 8920 Randers NV
END:VEVENT
BEGIN:VEVENT
UID:gruppeweb.dk:7606:event:679
DTSTAMP:20260421T131042Z
LAST-MODIFIED:20251111T124617Z
SUMMARY:Junior møde
DESCRIPTION:\n
URL:https://www.nielsebbesensgruppe.dk/begivenhed/junior-moede-4
DTSTART:20251119T000000Z
DTEND:20251119T193000Z
LOCATION:Niels Ebbesen Gruppe\, Fiskergårdsvej 31\, 8920 Randers NV
END:VEVENT
BEGIN:VEVENT
UID:gruppeweb.dk:7606:event:680
DTSTAMP:20260421T131042Z
LAST-MODIFIED:20251111T124617Z
SUMMARY:Junior møde
DESCRIPTION:\n
URL:https://www.nielsebbesensgruppe.dk/begivenhed/junior-moede-5
DTSTART:20251112T000000Z
DTEND:20251112T193000Z
LOCATION:Niels Ebbesen Gruppe\, Fiskergårdsvej 31\, 8920 Randers NV
END:VEVENT
BEGIN:VEVENT
UID:gruppeweb.dk:7606:event:695
DTSTAMP:20260421T131042Z
LAST-MODIFIED:20260222T122831Z
SUMMARY:Spejdernes Lejr 2026 - Rate 1
DESCRIPTION:\n
URL:https://www.nielsebbesensgruppe.dk/begivenhed/spejdernes-lejr-2026-rate
 -1
DTSTART:20260717T220000Z
DTEND:20260725T220000Z
LOCATION:Hedeland Naturpark\, Tranemosevej 2\, 2640 Hedehusene 
END:VEVENT
BEGIN:VEVENT
UID:gruppeweb.dk:7606:event:696
DTSTAMP:20260421T131042Z
LAST-MODIFIED:20260219T124007Z
SUMMARY:Spejdernes Lejr 2026 - Rate 2
DESCRIPTION:\n
URL:https://www.nielsebbesensgruppe.dk/begivenhed/spejdernes-lejr-2026-rate
 -2
DTSTART:20260717T220000Z
DTEND:20260725T220000Z
LOCATION:Hedeland Naturpark\, Tranemosevej 2\, 2640 Hedehusene 
END:VEVENT
BEGIN:VEVENT
UID:gruppeweb.dk:7606:event:781
DTSTAMP:20260421T131042Z
LAST-MODIFIED:20260413T182206Z
SUMMARY:Divisionsturnering 2026
DESCRIPTION:I år prøver vi noget helt nyt! Vi er gået sammen med Djursla
 nds Division\,  \nmed det for øje at prøve noget helt nyt og skabe en\ne
 ndnu federe Divisionsturnering for børnene. I overskrifterne betyder det\
 ,  \nat divien nu indeholder to overnatninger\, foregår i\nMols Bjerge\, 
 og at der er en masse ansigter\, som er helt nye for os alle  \nsammen.*\n
 *\n\n*\n*\n\nSe invitationen og info her [1]*\n*\n\n\n[1] https://www.canv
 a.com/design/DAHDiFje9qc/qBIJcOeCe2DqW_qdCt7YuQ/view?utm_content=DAHDiFje9
 qc&amp\;utm_campaign=designshare&amp\;utm_medium=link2&amp\;utm_source=uni
 quelinks&amp\;utlId=h607f527c82\n
URL:https://www.nielsebbesensgruppe.dk/begivenhed/divisionsturnering-2026
DTSTART:20260514T073000Z
DTEND:20260517T183000Z
LOCATION:Toggerbo Spejdercenter\, Toggerbovej 1\, 8420 Knebel
END:VEVENT
END:VCALENDAR
